BEGIN:VCALENDAR
VERSION:2.0
PRODID:-//Eifel-Mosel Eiskunstlauf - ECPv6.8.3//NONSGML v1.0//EN
CALSCALE:GREGORIAN
METHOD:PUBLISH
X-WR-CALNAME:Eifel-Mosel Eiskunstlauf
X-ORIGINAL-URL:https://eiskunstlauf-bitburg.de
X-WR-CALDESC:Veranstaltungen für Eifel-Mosel Eiskunstlauf
REFRESH-INTERVAL;VALUE=DURATION:PT1H
X-Robots-Tag:noindex
X-PUBLISHED-TTL:PT1H
BEGIN:VTIMEZONE
TZID:Europe/Berlin
BEGIN:DAYLIGHT
TZOFFSETFROM:+0100
TZOFFSETTO:+0200
TZNAME:CEST
DTSTART:20210328T010000
END:DAYLIGHT
BEGIN:STANDARD
TZOFFSETFROM:+0200
TZOFFSETTO:+0100
TZNAME:CET
DTSTART:20211031T010000
END:STANDARD
END:VTIMEZONE
BEGIN:VEVENT
DTSTART;TZID=Europe/Berlin:20211017T080000
DTEND;TZID=Europe/Berlin:20211017T110000
DTSTAMP:20260419T153627
CREATED:20211013T151023Z
LAST-MODIFIED:20211013T151429Z
UID:3693-1634457600-1634468400@eiskunstlauf-bitburg.de
SUMMARY:Sichtungslaufen Diez
DESCRIPTION:In Rheinland-Pfalz ist etwas im Gange. Auch wir werden künftig einen Landesstützpunkt haben\, und zwar in Diez! Und zu einem Stützpunkt gehört auch der Aufbau eines Landeskaders. Diesen Sonntag findet dazu ein erstes Sichtungslaufen statt\, bei dem die Experten vor Ort entscheiden\, ob die LäuferInnen das Potential haben in den Kader aufgenommen zu werden. Ein paar unserer Läuferinnen nehmen ebenfalls daran teil. \nWir wünschen ihnen viel Spaß\, viel Erfolg und tolle Erfahrungen! \n 
URL:https://eiskunstlauf-bitburg.de/event/sichtungslaufen-diez/
CATEGORIES:Special
ATTACH;FMTTYPE=image/jpeg:https://eiskunstlauf-bitburg.de/wp-content/uploads/2020/09/eiskunstlauf-bitburg-blog-lampenfieber.jpg
END:VEVENT
END:VCALENDAR